BEGIN:VCALENDAR
VERSION:2.0
PRODID:www.hss.de
X-PUBLISHED-TTL:P1W
BEGIN:VEVENT
UID:69e74d315d3dc
DTSTART:20260422T130000Z
SEQUENCE:0
TRANSP:OPAQUE
DTEND:20260422T150000Z
LOCATION:Hammelburg
SUMMARY:Digitaler Nachlass – Erinnerungen bewahren\, Probleme vermeiden
CLASS:PUBLIC
DESCRIPTION:Veranstaltung: https://www.hss.de/veranstaltungen/digitaler-nac
 hlass-erinnerungen-bewahren-probleme-vermeiden-3260309257/\nMeine Veransta
 ltungen: https://www.hss.de/meine-veranstaltungen/
DTSTAMP:20260421T101058Z
END:VEVENT
END:VCALENDAR