BEGIN:VCALENDAR
VERSION:2.0
PRODID:www.hss.de
X-PUBLISHED-TTL:P1W
BEGIN:VEVENT
UID:69e55e4540205
DTSTART:20240408T160000Z
SEQUENCE:0
TRANSP:OPAQUE
DTEND:20240408T180000Z
LOCATION:HSSdigital
SUMMARY:Dune 2 - Politischer Science-Fiction-Film
CLASS:PUBLIC
DESCRIPTION:Veranstaltung: https://www.hss.de/veranstaltungen/dune-2-politi
 scher-science-fiction-film-3240303352/\nMeine Veranstaltungen: https://www
 .hss.de/meine-veranstaltungen/
DTSTAMP:20260419T225917Z
END:VEVENT
END:VCALENDAR