BEGIN:VCALENDAR
VERSION:2.0
PRODID:www.hss.de
X-PUBLISHED-TTL:P1W
BEGIN:VEVENT
UID:69e93b4971d31
DTSTART:20240219T180000Z
SEQUENCE:0
TRANSP:OPAQUE
DTEND:20240219T203000Z
LOCATION:HSSdigital
SUMMARY:Eine rechtssichere Feuerwehrgebührensatzung
CLASS:PUBLIC
DESCRIPTION:Veranstaltung: https://www.hss.de/veranstaltungen/eine-rechtssi
 chere-feuerwehrgebuehrensatzung-3240307806/\nMeine Veranstaltungen: https:
 //www.hss.de/meine-veranstaltungen/
DTSTAMP:20260422T211905Z
END:VEVENT
END:VCALENDAR