BEGIN:VCALENDAR
VERSION:2.0
PRODID:www.hss.de
X-PUBLISHED-TTL:P1W
BEGIN:VEVENT
UID:69e77a14d8a44
DTSTART:20260731T130000Z
SEQUENCE:0
TRANSP:OPAQUE
DTEND:20260802T100000Z
LOCATION:Bad Staffelstein
SUMMARY:Einstiegsseminar Rhetorik und Öffentlichkeitsarbeit
CLASS:PUBLIC
DESCRIPTION:Veranstaltung: https://www.hss.de/veranstaltungen/einstiegssemi
 nar-rhetorik-und-oeffentlichkeitsarbeit-3260304007/\nMeine Veranstaltungen
 : https://www.hss.de/meine-veranstaltungen/
DTSTAMP:20260421T132229Z
END:VEVENT
END:VCALENDAR