BEGIN:VCALENDAR
VERSION:2.0
PRODID:www.hss.de
X-PUBLISHED-TTL:P1W
BEGIN:VEVENT
UID:69e656afcb13d
DTSTART:20221128T180000Z
SEQUENCE:0
TRANSP:OPAQUE
DTEND:20221128T203000Z
LOCATION:München
SUMMARY:EU-Beitritt der Ukraine - Erwartungen und Auswirkungen auf die Unio
 n und die Ukraine
CLASS:PUBLIC
DESCRIPTION:Veranstaltung: https://www.hss.de/veranstaltungen/eu-beitritt-d
 er-ukraine-erwartungen-und-auswirkungen-auf-die-union-und-die-ukraine-5220
 602443/\nMeine Veranstaltungen: https://www.hss.de/meine-veranstaltungen/
DTSTAMP:20260420T163911Z
END:VEVENT
END:VCALENDAR