BEGIN:VCALENDAR
VERSION:2.0
PRODID:www.hss.de
X-PUBLISHED-TTL:P1W
BEGIN:VEVENT
UID:69e603a55a5b7
DTSTART:20260612T160000Z
SEQUENCE:0
TRANSP:OPAQUE
DTEND:20260614T110000Z
LOCATION:Bad Staffelstein
SUMMARY:Europa\, die USA und die transatlantischen Beziehungen
CLASS:PUBLIC
DESCRIPTION:Veranstaltung: https://www.hss.de/veranstaltungen/europa-die-us
 a-und-die-transatlantischen-beziehungen-3260304012/\nMeine Veranstaltungen
 : https://www.hss.de/meine-veranstaltungen/
DTSTAMP:20260420T104453Z
END:VEVENT
END:VCALENDAR