BEGIN:VCALENDAR
VERSION:2.0
PRODID:www.hss.de
X-PUBLISHED-TTL:P1W
BEGIN:VEVENT
UID:69e8bd1d41b84
DTSTART:20251127T183000Z
SEQUENCE:0
TRANSP:OPAQUE
DTEND:20251127T203000Z
LOCATION:Augsburg
SUMMARY:Europa\, USA\, China: Wo stehen wir im globalen Spannungsfeld der G
 roßmächte
CLASS:PUBLIC
DESCRIPTION:Veranstaltung: https://www.hss.de/veranstaltungen/europa-usa-ch
 ina-wo-stehen-wir-im-globalen-spannungsfeld-der-grossmaechte-3250309063/\n
 Meine Veranstaltungen: https://www.hss.de/meine-veranstaltungen/
DTSTAMP:20260422T122045Z
END:VEVENT
END:VCALENDAR