BEGIN:VCALENDAR
VERSION:2.0
PRODID:www.hss.de
X-PUBLISHED-TTL:P1W
BEGIN:VEVENT
UID:69e64f9d724f2
DTSTART:20240420T110000Z
SEQUENCE:0
TRANSP:OPAQUE
DTEND:20240421T103000Z
LOCATION:Ottobeuren
SUMMARY:Europatagung: Das Haus Europa gemeinsam weiterbauen
CLASS:PUBLIC
DESCRIPTION:Veranstaltung: https://www.hss.de/veranstaltungen/europatagung-
 das-haus-europa-gemeinsam-weiterbauen-3240200001/\nMeine Veranstaltungen: 
 https://www.hss.de/meine-veranstaltungen/
DTSTAMP:20260420T160901Z
END:VEVENT
END:VCALENDAR