BEGIN:VCALENDAR
VERSION:2.0
PRODID:www.hss.de
X-PUBLISHED-TTL:P1W
BEGIN:VEVENT
UID:69e989a4812f4
DTSTART:20260414T070000Z
SEQUENCE:0
TRANSP:OPAQUE
DTEND:20260414T083000Z
LOCATION:Berlin
SUMMARY:Europe and Africa in Global Power Shifts
CLASS:PUBLIC
DESCRIPTION:Veranstaltung: https://www.hss.de/veranstaltungen/europe-and-af
 rica-in-global-power-shifts-5260523002/\nMeine Veranstaltungen: https://ww
 w.hss.de/meine-veranstaltungen/
DTSTAMP:20260423T025324Z
END:VEVENT
END:VCALENDAR