BEGIN:VCALENDAR
VERSION:2.0
PRODID:www.hss.de
X-PUBLISHED-TTL:P1W
BEGIN:VEVENT
UID:69e80fb8c490c
DTSTART:20210623T130000Z
SEQUENCE:0
TRANSP:OPAQUE
DTEND:20210623T170000Z
LOCATION:HSSdigital
SUMMARY:European Summit on Islamist Radicalization and Terrorist Threat
CLASS:PUBLIC
DESCRIPTION:Veranstaltung: https://www.hss.de/veranstaltungen/european-summ
 it-on-islamist-radicalization-and-terrorist-threat-5210502010/\nMeine Vera
 nstaltungen: https://www.hss.de/meine-veranstaltungen/
DTSTAMP:20260422T000056Z
END:VEVENT
END:VCALENDAR