BEGIN:VCALENDAR
VERSION:2.0
PRODID:www.hss.de
X-PUBLISHED-TTL:P1W
BEGIN:VEVENT
UID:69eb9c5edd66f
DTSTART:20260902T100000Z
SEQUENCE:0
TRANSP:OPAQUE
DTEND:20260904T150000Z
LOCATION:Bad Staffelstein
SUMMARY:Extremismustagung/ Totalitarismusforschung
CLASS:PUBLIC
DESCRIPTION:Veranstaltung: https://www.hss.de/veranstaltungen/extremismusta
 gung-totalitarismusforschung-3260303022/\nMeine Veranstaltungen: https://w
 ww.hss.de/meine-veranstaltungen/
DTSTAMP:20260424T163751Z
END:VEVENT
END:VCALENDAR