BEGIN:VCALENDAR
VERSION:2.0
PRODID:www.hss.de
X-PUBLISHED-TTL:P1W
BEGIN:VEVENT
UID:69e64b3265a19
DTSTART:20251102T130000Z
SEQUENCE:0
TRANSP:OPAQUE
DTEND:20251107T120000Z
LOCATION:Bad Staffelstein
SUMMARY:Ferien ab! Herbst
CLASS:PUBLIC
DESCRIPTION:Veranstaltung: https://www.hss.de/veranstaltungen/ferien-ab-her
 bst-3250304005/\nMeine Veranstaltungen: https://www.hss.de/meine-veranstal
 tungen/
DTSTAMP:20260420T155010Z
END:VEVENT
END:VCALENDAR