BEGIN:VCALENDAR
VERSION:2.0
PRODID:www.hss.de
X-PUBLISHED-TTL:P1W
BEGIN:VEVENT
UID:69e6328bd9cc1
DTSTART:20260329T130000Z
SEQUENCE:0
TRANSP:OPAQUE
DTEND:20260402T110000Z
LOCATION:Bad Staffelstein
SUMMARY:Ferien ab! Ostern
CLASS:PUBLIC
DESCRIPTION:Veranstaltung: https://www.hss.de/veranstaltungen/ferien-ab-ost
 ern-3260304002/\nMeine Veranstaltungen: https://www.hss.de/meine-veranstal
 tungen/
DTSTAMP:20260420T140500Z
END:VEVENT
END:VCALENDAR