BEGIN:VCALENDAR
VERSION:2.0
PRODID:www.hss.de
X-PUBLISHED-TTL:P1W
BEGIN:VEVENT
UID:69e88ce3d521a
DTSTART:20250831T140000Z
SEQUENCE:0
TRANSP:OPAQUE
DTEND:20250905T110000Z
LOCATION:Bad Staffelstein
SUMMARY:Ferien ab! Sommer
CLASS:PUBLIC
DESCRIPTION:Veranstaltung: https://www.hss.de/veranstaltungen/ferien-ab-som
 mer-3250304004/\nMeine Veranstaltungen: https://www.hss.de/meine-veranstal
 tungen/
DTSTAMP:20260422T085500Z
END:VEVENT
END:VCALENDAR