BEGIN:VCALENDAR
VERSION:2.0
PRODID:www.hss.de
X-PUBLISHED-TTL:P1W
BEGIN:VEVENT
UID:69e517899785c
DTSTART:20191027T130000Z
SEQUENCE:0
TRANSP:OPAQUE
DTEND:20191101T120000Z
LOCATION:Bad Staffelstein
SUMMARY:Ferien-/Familienprogramm
CLASS:PUBLIC
DESCRIPTION:Veranstaltung: https://www.hss.de/veranstaltungen/ferien-famili
 enprogramm-030419006/\nMeine Veranstaltungen: https://www.hss.de/meine-ver
 anstaltungen/
DTSTAMP:20260419T175729Z
END:VEVENT
END:VCALENDAR