BEGIN:VCALENDAR
VERSION:2.0
PRODID:www.hss.de
X-PUBLISHED-TTL:P1W
BEGIN:VEVENT
UID:69e6b1ef43d30
DTSTART:20221030T130000Z
SEQUENCE:0
TRANSP:OPAQUE
DTEND:20221104T120000Z
LOCATION:Bad Staffelstein
SUMMARY:Ferienprogramm Herbst
CLASS:PUBLIC
DESCRIPTION:Veranstaltung: https://www.hss.de/veranstaltungen/ferienprogram
 m-herbst-3220304025/\nMeine Veranstaltungen: https://www.hss.de/meine-vera
 nstaltungen/
DTSTAMP:20260420T230831Z
END:VEVENT
END:VCALENDAR