BEGIN:VCALENDAR
VERSION:2.0
PRODID:www.hss.de
X-PUBLISHED-TTL:P1W
BEGIN:VEVENT
UID:69e59a6470a08
DTSTART:20230528T140000Z
SEQUENCE:0
TRANSP:OPAQUE
DTEND:20230602T110000Z
LOCATION:Bad Staffelstein
SUMMARY:Ferienprogramm Pfingsten
CLASS:PUBLIC
DESCRIPTION:Veranstaltung: https://www.hss.de/veranstaltungen/ferienprogram
 m-pfingsten-3230304004/\nMeine Veranstaltungen: https://www.hss.de/meine-v
 eranstaltungen/
DTSTAMP:20260420T031548Z
END:VEVENT
END:VCALENDAR