BEGIN:VCALENDAR
VERSION:2.0
PRODID:www.hss.de
X-PUBLISHED-TTL:P1W
BEGIN:VEVENT
UID:69e5046e38f88
DTSTART:20220904T120000Z
SEQUENCE:0
TRANSP:OPAQUE
DTEND:20220909T110000Z
LOCATION:Bad Staffelstein
SUMMARY:Ferienprogramm Sommer 2
CLASS:PUBLIC
DESCRIPTION:Veranstaltung: https://www.hss.de/veranstaltungen/ferienprogram
 m-sommer-2-3220304024/\nMeine Veranstaltungen: https://www.hss.de/meine-ve
 ranstaltungen/
DTSTAMP:20260419T163558Z
END:VEVENT
END:VCALENDAR