BEGIN:VCALENDAR
VERSION:2.0
PRODID:www.hss.de
X-PUBLISHED-TTL:P1W
BEGIN:VEVENT
UID:69eb444350f4c
DTSTART:20260508T150000Z
SEQUENCE:0
TRANSP:OPAQUE
DTEND:20260508T190000Z
LOCATION:München
SUMMARY:Filmvorführung und Gespräch mit  Xaver Schwarzenberger und Susann
 e Breit-Keßler
CLASS:PUBLIC
DESCRIPTION:Veranstaltung: https://www.hss.de/veranstaltungen/filmvorfuehru
 ng-und-gespraech-mit-xaver-schwarzenberger-und-susanne-breit-kessler-32603
 03101/\nMeine Veranstaltungen: https://www.hss.de/meine-veranstaltungen/
DTSTAMP:20260424T102155Z
END:VEVENT
END:VCALENDAR