BEGIN:VCALENDAR
VERSION:2.0
PRODID:www.hss.de
X-PUBLISHED-TTL:P1W
BEGIN:VEVENT
UID:69eb72fc995a8
DTSTART:20260626T170000Z
SEQUENCE:0
TRANSP:OPAQUE
DTEND:20260628T100000Z
LOCATION:Bad Staffelstein
SUMMARY:Finanzmärkte verstehen: Geopolitik\, Anlageentscheidungen und Risi
 komanagement
CLASS:PUBLIC
DESCRIPTION:Veranstaltung: https://www.hss.de/veranstaltungen/finanzmaerkte
 -verstehen-geopolitik-anlageentscheidungen-und-risikomanagement-3260302010
 /\nMeine Veranstaltungen: https://www.hss.de/meine-veranstaltungen/
DTSTAMP:20260424T134116Z
END:VEVENT
END:VCALENDAR