BEGIN:VCALENDAR
VERSION:2.0
PRODID:www.hss.de
X-PUBLISHED-TTL:P1W
BEGIN:VEVENT
UID:69e594e19572a
DTSTART:20240406T073000Z
SEQUENCE:0
TRANSP:OPAQUE
DTEND:20240406T123000Z
LOCATION:Erlangen
SUMMARY:Finanzwelt in Europa und Besteuerung
CLASS:PUBLIC
DESCRIPTION:Veranstaltung: https://www.hss.de/veranstaltungen/finanzwelt-in
 -europa-und-besteuerung-3240302504/\nMeine Veranstaltungen: https://www.hs
 s.de/meine-veranstaltungen/
DTSTAMP:20260420T025217Z
END:VEVENT
END:VCALENDAR