BEGIN:VCALENDAR
VERSION:2.0
PRODID:www.hss.de
X-PUBLISHED-TTL:P1W
BEGIN:VEVENT
UID:69ecd0c0b2b6c
DTSTART:20240218T170000Z
SEQUENCE:0
TRANSP:OPAQUE
DTEND:20240223T120000Z
LOCATION:Bad Staffelstein
SUMMARY:Forum der älteren Generation: Gesund und fit in den dritten Lebens
 abschnitt
CLASS:PUBLIC
DESCRIPTION:Veranstaltung: https://www.hss.de/veranstaltungen/forum-der-ael
 teren-generation-gesund-und-fit-in-den-dritten-lebensabschnitt-3240306093/
 \nMeine Veranstaltungen: https://www.hss.de/meine-veranstaltungen/
DTSTAMP:20260425T143336Z
END:VEVENT
END:VCALENDAR