BEGIN:VCALENDAR
VERSION:2.0
PRODID:www.hss.de
X-PUBLISHED-TTL:P1W
BEGIN:VEVENT
UID:69e539361a75f
DTSTART:20240405T153000Z
SEQUENCE:0
TRANSP:OPAQUE
DTEND:20240407T110000Z
LOCATION:Bad Staffelstein
SUMMARY:Franken und Europa
CLASS:PUBLIC
DESCRIPTION:Veranstaltung: https://www.hss.de/veranstaltungen/franken-und-e
 uropa-3240305602/\nMeine Veranstaltungen: https://www.hss.de/meine-veranst
 altungen/
DTSTAMP:20260419T202110Z
END:VEVENT
END:VCALENDAR