BEGIN:VCALENDAR
VERSION:2.0
PRODID:www.hss.de
X-PUBLISHED-TTL:P1W
BEGIN:VEVENT
UID:69e8316f1cd03
DTSTART:20260314T180000Z
SEQUENCE:0
TRANSP:OPAQUE
DTEND:20260314T193000Z
LOCATION:HSSdigital
SUMMARY:Frauen am Berg - von Marie von Preußen bis zu Laura Dahlmeier
CLASS:PUBLIC
DESCRIPTION:Veranstaltung: https://www.hss.de/veranstaltungen/frauen-am-ber
 g-von-marie-von-preussen-bis-zu-laura-dahlmeier-3260305104/\nMeine Veranst
 altungen: https://www.hss.de/meine-veranstaltungen/
DTSTAMP:20260422T022447Z
END:VEVENT
END:VCALENDAR