BEGIN:VCALENDAR
VERSION:2.0
PRODID:www.hss.de
X-PUBLISHED-TTL:P1W
BEGIN:VEVENT
UID:69ea0fa839536
DTSTART:20260520T080000Z
SEQUENCE:0
TRANSP:OPAQUE
DTEND:20260520T100000Z
LOCATION:München
SUMMARY:Frauen der Stunde Null – wie wir wurden\, was wir sind
CLASS:PUBLIC
DESCRIPTION:Veranstaltung: https://www.hss.de/veranstaltungen/frauen-der-st
 unde-null-wie-wir-wurden-was-wir-sind-3260303203/\nMeine Veranstaltungen: 
 https://www.hss.de/meine-veranstaltungen/
DTSTAMP:20260423T122512Z
END:VEVENT
END:VCALENDAR