BEGIN:VCALENDAR
VERSION:2.0
PRODID:www.hss.de
X-PUBLISHED-TTL:P1W
BEGIN:VEVENT
UID:69e7c2eeba871
DTSTART:20250904T143000Z
SEQUENCE:0
TRANSP:OPAQUE
DTEND:20250904T160000Z
LOCATION:München
SUMMARY:Frauen im Handwerk
CLASS:PUBLIC
DESCRIPTION:Veranstaltung: https://www.hss.de/veranstaltungen/frauen-im-han
 dwerk-3250203003/\nMeine Veranstaltungen: https://www.hss.de/meine-veranst
 altungen/
DTSTAMP:20260421T183318Z
END:VEVENT
END:VCALENDAR