BEGIN:VCALENDAR
VERSION:2.0
PRODID:www.hss.de
X-PUBLISHED-TTL:P1W
BEGIN:VEVENT
UID:69e532bd61712
DTSTART:20260610T160000Z
SEQUENCE:0
TRANSP:OPAQUE
DTEND:20260610T180000Z
LOCATION:HSSdigital
SUMMARY:Freiheit - Sicherheit - Kriegstüchtigkeit? Über ein Dilemma der W
 ehrhaften Demokratie
CLASS:PUBLIC
DESCRIPTION:Veranstaltung: https://www.hss.de/veranstaltungen/freiheit-sich
 erheit-kriegstuechtigkeit-ueber-ein-dilemma-der-wehrhaften-demokratie-3260
 303307/\nMeine Veranstaltungen: https://www.hss.de/meine-veranstaltungen/
DTSTAMP:20260419T195333Z
END:VEVENT
END:VCALENDAR