BEGIN:VCALENDAR
VERSION:2.0
PRODID:www.hss.de
X-PUBLISHED-TTL:P1W
BEGIN:VEVENT
UID:69e4fba200fff
DTSTART:20241009T110000Z
SEQUENCE:0
TRANSP:OPAQUE
DTEND:20241009T150000Z
LOCATION:München
SUMMARY:From Zero to Hero – mit AutoML ohne Expertenwissen KI anwenden
CLASS:PUBLIC
DESCRIPTION:Veranstaltung: https://www.hss.de/veranstaltungen/from-zero-to-
 hero-mit-automl-ohne-expertenwissen-ki-anwenden-3240302406/\nMeine Veranst
 altungen: https://www.hss.de/meine-veranstaltungen/
DTSTAMP:20260419T155826Z
END:VEVENT
END:VCALENDAR