BEGIN:VCALENDAR
VERSION:2.0
PRODID:www.hss.de
X-PUBLISHED-TTL:P1W
BEGIN:VEVENT
UID:69e96c3939a59
DTSTART:20210716T153000Z
SEQUENCE:0
TRANSP:OPAQUE
DTEND:20210718T110000Z
LOCATION:Bad Staffelstein
SUMMARY:Führen durch Wertschätzung
CLASS:PUBLIC
DESCRIPTION:Veranstaltung: https://www.hss.de/veranstaltungen/fuehren-durch
 -wertschaetzung-3210301505/\nMeine Veranstaltungen: https://www.hss.de/mei
 ne-veranstaltungen/
DTSTAMP:20260423T004753Z
END:VEVENT
END:VCALENDAR