BEGIN:VCALENDAR
VERSION:2.0
PRODID:www.hss.de
X-PUBLISHED-TTL:P1W
BEGIN:VEVENT
UID:69e8d8f6d10ab
DTSTART:20230517T153000Z
SEQUENCE:0
TRANSP:OPAQUE
DTEND:20230519T110000Z
LOCATION:Bad Staffelstein
SUMMARY:Führen durch Wertschätzung
CLASS:PUBLIC
DESCRIPTION:Veranstaltung: https://www.hss.de/veranstaltungen/fuehren-durch
 -wertschaetzung-3230301112/\nMeine Veranstaltungen: https://www.hss.de/mei
 ne-veranstaltungen/
DTSTAMP:20260422T141935Z
END:VEVENT
END:VCALENDAR