BEGIN:VCALENDAR
VERSION:2.0
PRODID:www.hss.de
X-PUBLISHED-TTL:P1W
BEGIN:VEVENT
UID:69e63696349ec
DTSTART:20241017T070000Z
SEQUENCE:0
TRANSP:OPAQUE
DTEND:20241017T114500Z
LOCATION:München
SUMMARY:Führung & Unternehmensstrategie im KI-Zeitalter
CLASS:PUBLIC
DESCRIPTION:Veranstaltung: https://www.hss.de/veranstaltungen/fuehrung-unte
 rnehmensstrategie-im-ki-zeitalter-3240302409/\nMeine Veranstaltungen: http
 s://www.hss.de/meine-veranstaltungen/
DTSTAMP:20260420T142214Z
END:VEVENT
END:VCALENDAR