BEGIN:VCALENDAR
VERSION:2.0
PRODID:www.hss.de
X-PUBLISHED-TTL:P1W
BEGIN:VEVENT
UID:69e656a71ce78
DTSTART:20251203T170000Z
SEQUENCE:0
TRANSP:OPAQUE
DTEND:20251203T200000Z
LOCATION:HSSdigital
SUMMARY:Für Demokratie eintreten – Strategien gegen rechtsextreme Haltun
 gen und Radikalisierung
CLASS:PUBLIC
DESCRIPTION:Veranstaltung: https://www.hss.de/veranstaltungen/fuer-demokrat
 ie-eintreten-strategien-gegen-rechtsextreme-haltungen-und-radikalisierung-
 3250303348/\nMeine Veranstaltungen: https://www.hss.de/meine-veranstaltung
 en/
DTSTAMP:20260420T163903Z
END:VEVENT
END:VCALENDAR