BEGIN:VCALENDAR
VERSION:2.0
PRODID:www.hss.de
X-PUBLISHED-TTL:P1W
BEGIN:VEVENT
UID:69e8a5bc186ae
DTSTART:20261026T170000Z
SEQUENCE:0
TRANSP:OPAQUE
DTEND:20261026T183000Z
LOCATION:HSSdigital
SUMMARY:Fusionsenergie - eine der größten Chancen des 21. Jahrhunderts
CLASS:PUBLIC
DESCRIPTION:Veranstaltung: https://www.hss.de/veranstaltungen/fusionsenergi
 e-eine-der-groessten-chancen-des-21-jahrhunderts-3260301550/\nMeine Verans
 taltungen: https://www.hss.de/meine-veranstaltungen/
DTSTAMP:20260422T104100Z
END:VEVENT
END:VCALENDAR