BEGIN:VCALENDAR
VERSION:2.0
PRODID:www.hss.de
X-PUBLISHED-TTL:P1W
BEGIN:VEVENT
UID:69ea3dba07a3a
DTSTART:20260415T173000Z
SEQUENCE:0
TRANSP:OPAQUE
DTEND:20260415T193000Z
LOCATION:Eußenheim
SUMMARY:Gas\, Wärmepumpe\, Photovoltaik\, Holz oder Fernwärme?
CLASS:PUBLIC
DESCRIPTION:Veranstaltung: https://www.hss.de/veranstaltungen/gas-waermepum
 pe-photovoltaik-holz-oder-fernwaerme-3260309364/\nMeine Veranstaltungen: h
 ttps://www.hss.de/meine-veranstaltungen/
DTSTAMP:20260423T154146Z
END:VEVENT
END:VCALENDAR