BEGIN:VCALENDAR
VERSION:2.0
PRODID:www.hss.de
X-PUBLISHED-TTL:P1W
BEGIN:VEVENT
UID:69e5a04508181
DTSTART:20260428T181500Z
SEQUENCE:0
TRANSP:OPAQUE
DTEND:20260428T193000Z
SUMMARY:Gebäudetypen der Zukunft
CLASS:PUBLIC
DESCRIPTION:Veranstaltung: https://www.hss.de/veranstaltungen/gebaeudetypen
 -der-zukunft-3260302832/\nMeine Veranstaltungen: https://www.hss.de/meine-
 veranstaltungen/
DTSTAMP:20260420T034053Z
END:VEVENT
END:VCALENDAR