BEGIN:VCALENDAR
VERSION:2.0
PRODID:www.hss.de
X-PUBLISHED-TTL:P1W
BEGIN:VEVENT
UID:69e9a20641155
DTSTART:20251029T173000Z
SEQUENCE:0
TRANSP:OPAQUE
DTEND:20251029T185000Z
LOCATION:HSSdigital
SUMMARY:Generation 50Plus: Psychische Gesundheit bewahren & Lebensfreude er
 halten
CLASS:PUBLIC
DESCRIPTION:Veranstaltung: https://www.hss.de/veranstaltungen/generation-50
 plus-psychische-gesundheit-bewahren-lebensfreude-erhalten-3250302892/\nMei
 ne Veranstaltungen: https://www.hss.de/meine-veranstaltungen/
DTSTAMP:20260423T043726Z
END:VEVENT
END:VCALENDAR