BEGIN:VCALENDAR
VERSION:2.0
PRODID:www.hss.de
X-PUBLISHED-TTL:P1W
BEGIN:VEVENT
UID:69e96be6000ed
DTSTART:20260419T130000Z
SEQUENCE:0
TRANSP:OPAQUE
DTEND:20260421T100000Z
LOCATION:Bad Staffelstein
SUMMARY:Gesundheit im Alter
CLASS:PUBLIC
DESCRIPTION:Veranstaltung: https://www.hss.de/veranstaltungen/gesundheit-im
 -alter-3260302007/\nMeine Veranstaltungen: https://www.hss.de/meine-verans
 taltungen/
DTSTAMP:20260423T004630Z
END:VEVENT
END:VCALENDAR