BEGIN:VCALENDAR
VERSION:2.0
PRODID:www.hss.de
X-PUBLISHED-TTL:P1W
BEGIN:VEVENT
UID:69e68dcb1ef91
DTSTART:20260505T170000Z
SEQUENCE:0
TRANSP:OPAQUE
DTEND:20260505T193000Z
LOCATION:Sulzheim
SUMMARY:Grundlagenseminar für (neu-) gewählte Mandatsträger
CLASS:PUBLIC
DESCRIPTION:Veranstaltung: https://www.hss.de/veranstaltungen/grundlagensem
 inar-fuer-neu-gewaehlte-mandatstraeger-3260307651/\nMeine Veranstaltungen:
  https://www.hss.de/meine-veranstaltungen/
DTSTAMP:20260420T203419Z
END:VEVENT
END:VCALENDAR