BEGIN:VCALENDAR
VERSION:2.0
PRODID:www.hss.de
X-PUBLISHED-TTL:P1W
BEGIN:VEVENT
UID:69ea82ae5ba6e
DTSTART:20240201T180000Z
SEQUENCE:0
TRANSP:OPAQUE
DTEND:20240201T190000Z
LOCATION:HSSdigital
SUMMARY:H- wie Haushalt und Finanzen
CLASS:PUBLIC
DESCRIPTION:Veranstaltung: https://www.hss.de/veranstaltungen/h-wie-haushal
 t-und-finanzen-3240300208/\nMeine Veranstaltungen: https://www.hss.de/mein
 e-veranstaltungen/
DTSTAMP:20260423T203558Z
END:VEVENT
END:VCALENDAR