BEGIN:VCALENDAR
VERSION:2.0
PRODID:www.hss.de
X-PUBLISHED-TTL:P1W
BEGIN:VEVENT
UID:69e7f68d84b1d
DTSTART:20251119T180000Z
SEQUENCE:0
TRANSP:OPAQUE
DTEND:20251119T200000Z
LOCATION:Regensburg
SUMMARY:Himmel 4.0 - Wie der Wandel der Arbeitswelt zur Chance für das Eva
 ngelium wird
CLASS:PUBLIC
DESCRIPTION:Veranstaltung: https://www.hss.de/veranstaltungen/himmel-40-wie
 -der-wandel-der-arbeitswelt-zur-chance-fuer-das-evangelium-wird-3250309410
 /\nMeine Veranstaltungen: https://www.hss.de/meine-veranstaltungen/
DTSTAMP:20260421T221334Z
END:VEVENT
END:VCALENDAR