BEGIN:VCALENDAR
VERSION:2.0
PRODID:www.hss.de
X-PUBLISHED-TTL:P1W
BEGIN:VEVENT
UID:69e7a68f17e0f
DTSTART:20261207T170000Z
SEQUENCE:0
TRANSP:OPAQUE
DTEND:20261207T183000Z
LOCATION:HSSdigital
SUMMARY:In welcher Zukunft wollen wir leben? Anti-Dystopien im Science Fict
 ion als Visionen eines guten Zusammenlebens
CLASS:PUBLIC
DESCRIPTION:Veranstaltung: https://www.hss.de/veranstaltungen/in-welcher-zu
 kunft-wollen-wir-leben-anti-dystopien-im-science-fiction-als-visionen-eine
 s-guten-zusammenlebens-3260301552/\nMeine Veranstaltungen: https://www.hss
 .de/meine-veranstaltungen/
DTSTAMP:20260421T163215Z
END:VEVENT
END:VCALENDAR