BEGIN:VCALENDAR
VERSION:2.0
PRODID:www.hss.de
X-PUBLISHED-TTL:P1W
BEGIN:VEVENT
UID:69e7c26d6bfb5
DTSTART:20211126T163000Z
SEQUENCE:0
TRANSP:OPAQUE
DTEND:20211128T110000Z
LOCATION:Bad Staffelstein
SUMMARY:Inklusion & Pflege
CLASS:PUBLIC
DESCRIPTION:Veranstaltung: https://www.hss.de/veranstaltungen/inklusion-pfl
 ege-3210302031/\nMeine Veranstaltungen: https://www.hss.de/meine-veranstal
 tungen/
DTSTAMP:20260421T183109Z
END:VEVENT
END:VCALENDAR