BEGIN:VCALENDAR
VERSION:2.0
PRODID:www.hss.de
X-PUBLISHED-TTL:P1W
BEGIN:VEVENT
UID:69e7792944f4a
DTSTART:20260416T160000Z
SEQUENCE:0
TRANSP:OPAQUE
DTEND:20260416T173000Z
LOCATION:HSSdigital
SUMMARY:Innovationen in der Werkstofftechnik - Von alternativen Recycling-R
 outen bis zu künstlicher Intelligenz
CLASS:PUBLIC
DESCRIPTION:Veranstaltung: https://www.hss.de/veranstaltungen/innovationen-
 in-der-werkstofftechnik-von-alternativen-recycling-routen-bis-zu-kuenstlic
 her-intelligenz-3260301544/\nMeine Veranstaltungen: https://www.hss.de/mei
 ne-veranstaltungen/
DTSTAMP:20260421T131833Z
END:VEVENT
END:VCALENDAR