BEGIN:VCALENDAR
VERSION:2.0
PRODID:www.hss.de
X-PUBLISHED-TTL:P1W
BEGIN:VEVENT
UID:69e56be0dc996
DTSTART:20240603T153000Z
SEQUENCE:0
TRANSP:OPAQUE
DTEND:20240603T165000Z
LOCATION:HSSdigital
SUMMARY:International Arbeiten & Führen – Vielfalt positiv nutzen
CLASS:PUBLIC
DESCRIPTION:Veranstaltung: https://www.hss.de/veranstaltungen/international
 -arbeiten-fuehren-vielfalt-positiv-nutzen-3240302848/\nMeine Veranstaltung
 en: https://www.hss.de/meine-veranstaltungen/
DTSTAMP:20260419T235721Z
END:VEVENT
END:VCALENDAR