BEGIN:VCALENDAR
VERSION:2.0
PRODID:www.hss.de
X-PUBLISHED-TTL:P1W
BEGIN:VEVENT
UID:69ea7da1a234e
DTSTART:20240222T180000Z
SEQUENCE:0
TRANSP:OPAQUE
DTEND:20240222T190000Z
LOCATION:HSSdigital
SUMMARY:K - wie Kultur 
CLASS:PUBLIC
DESCRIPTION:Veranstaltung: https://www.hss.de/veranstaltungen/k-wie-kultur-
 3240300211/\nMeine Veranstaltungen: https://www.hss.de/meine-veranstaltung
 en/
DTSTAMP:20260423T201425Z
END:VEVENT
END:VCALENDAR