BEGIN:VCALENDAR
VERSION:2.0
PRODID:www.hss.de
X-PUBLISHED-TTL:P1W
BEGIN:VEVENT
UID:69e80ff7bce67
DTSTART:20260413T070000Z
SEQUENCE:0
TRANSP:OPAQUE
DTEND:20260413T080000Z
LOCATION:HSSdigital
SUMMARY:kamium: Eine KI-Plattform für den Unternehmenseinsatz
CLASS:PUBLIC
DESCRIPTION:Veranstaltung: https://www.hss.de/veranstaltungen/kamium-eine-k
 i-plattform-fuer-den-unternehmenseinsatz-3260302810/\nMeine Veranstaltunge
 n: https://www.hss.de/meine-veranstaltungen/
DTSTAMP:20260422T000159Z
END:VEVENT
END:VCALENDAR