BEGIN:VCALENDAR
VERSION:2.0
PRODID:www.hss.de
X-PUBLISHED-TTL:P1W
BEGIN:VEVENT
UID:69ece553b8f9e
DTSTART:20260716T160000Z
SEQUENCE:0
TRANSP:OPAQUE
DTEND:20260716T173000Z
LOCATION:HSSdigital
SUMMARY:Kern und Cern - Forschung an kleinsten Teilchen
CLASS:PUBLIC
DESCRIPTION:Veranstaltung: https://www.hss.de/veranstaltungen/kern-und-cern
 -forschung-an-kleinsten-teilchen-3260301547/\nMeine Veranstaltungen: https
 ://www.hss.de/meine-veranstaltungen/
DTSTAMP:20260425T160123Z
END:VEVENT
END:VCALENDAR