BEGIN:VCALENDAR
VERSION:2.0
PRODID:www.hss.de
X-PUBLISHED-TTL:P1W
BEGIN:VEVENT
UID:69e61b3bbd015
DTSTART:20260528T120000Z
SEQUENCE:0
TRANSP:OPAQUE
DTEND:20260528T140000Z
LOCATION:Wülfershausen
SUMMARY:KI für Senioren
CLASS:PUBLIC
DESCRIPTION:Veranstaltung: https://www.hss.de/veranstaltungen/ki-fuer-senio
 ren-3260309261/\nMeine Veranstaltungen: https://www.hss.de/meine-veranstal
 tungen/
DTSTAMP:20260420T122531Z
END:VEVENT
END:VCALENDAR