BEGIN:VCALENDAR
VERSION:2.0
PRODID:www.hss.de
X-PUBLISHED-TTL:P1W
BEGIN:VEVENT
UID:69e957d85b0c7
DTSTART:20260511T130000Z
SEQUENCE:0
TRANSP:OPAQUE
DTEND:20260511T150000Z
LOCATION:Bad Kissingen
SUMMARY:KI für Senioren: Eine Einführung in die Welt der Künstlichen Int
 elligenz
CLASS:PUBLIC
DESCRIPTION:Veranstaltung: https://www.hss.de/veranstaltungen/ki-fuer-senio
 ren-eine-einfuehrung-in-die-welt-der-kuenstlichen-intelligenz-3260309262/\
 nMeine Veranstaltungen: https://www.hss.de/meine-veranstaltungen/
DTSTAMP:20260422T232056Z
END:VEVENT
END:VCALENDAR