BEGIN:VCALENDAR
VERSION:2.0
PRODID:www.hss.de
X-PUBLISHED-TTL:P1W
BEGIN:VEVENT
UID:69e5a01dbf2db
DTSTART:20260504T070000Z
SEQUENCE:0
TRANSP:OPAQUE
DTEND:20260504T080000Z
LOCATION:HSSdigital
SUMMARY:KI-Helfer im Unternehmen und Organisationen: Use Cases & Sprechstun
 de
CLASS:PUBLIC
DESCRIPTION:Veranstaltung: https://www.hss.de/veranstaltungen/ki-helfer-im-
 unternehmen-und-organisationen-use-cases-sprechstunde-3260302852/\nMeine V
 eranstaltungen: https://www.hss.de/meine-veranstaltungen/
DTSTAMP:20260420T034013Z
END:VEVENT
END:VCALENDAR